Package: clippda Version: 1.59.0 Command: /Library/Frameworks/R.framework/Resources/bin/R CMD build --keep-empty-dirs --no-resave-data clippda StartedAt: 2025-10-23 16:26:26 -0400 (Thu, 23 Oct 2025) EndedAt: 2025-10-23 16:27:48 -0400 (Thu, 23 Oct 2025) EllapsedTime: 82.3 seconds RetCode: 0 Status: OK PackageFile: clippda_1.59.0.tar.gz PackageFileSize: 1.492 MiB