Package: cliProfiler Version: 1.15.0 Command: /home/biocbuild/R/R/bin/R CMD INSTALL cliProfiler StartedAt: 2025-10-16 21:45:00 -0000 (Thu, 16 Oct 2025) EndedAt: 2025-10-16 21:45:47 -0000 (Thu, 16 Oct 2025) EllapsedTime: 46.7 seconds RetCode: 0 Status: OK