Package: cliProfiler Version: 1.15.0 Command: /home/biocbuild/R/R/bin/R CMD build --keep-empty-dirs --no-resave-data cliProfiler StartedAt: 2025-10-17 00:03:31 -0000 (Fri, 17 Oct 2025) EndedAt: 2025-10-17 00:05:08 -0000 (Fri, 17 Oct 2025) EllapsedTime: 97.0 seconds RetCode: 1 Status: ERROR PackageFile: None PackageFileSize: NA