Package: clevRvis Version: 1.9.0 Command: /home/biocbuild/bbs-3.22-bioc/R/bin/R CMD check --install=check:clevRvis.install-out.txt --library=/home/biocbuild/bbs-3.22-bioc/R/site-library --timings clevRvis_1.9.0.tar.gz StartedAt: 2025-10-03 22:17:01 -0400 (Fri, 03 Oct 2025) EndedAt: 2025-10-03 22:18:19 -0400 (Fri, 03 Oct 2025) EllapsedTime: 78.1 seconds RetCode: 0 Status: OK CheckDir: clevRvis.Rcheck Warnings: 0