Package: clevRvis Version: 1.10.0 Command: /Library/Frameworks/R.framework/Resources/bin/R CMD INSTALL clevRvis StartedAt: 2025-11-20 16:02:50 -0500 (Thu, 20 Nov 2025) EndedAt: 2025-11-20 16:03:21 -0500 (Thu, 20 Nov 2025) EllapsedTime: 31.6 seconds RetCode: 0 Status: OK