Package: clevRvis Version: 1.10.0 Command: /Library/Frameworks/R.framework/Resources/bin/R CMD check --install=check:clevRvis.install-out.txt --library=/Library/Frameworks/R.framework/Resources/library --no-vignettes --timings clevRvis_1.10.0.tar.gz StartedAt: 2025-11-21 02:50:23 -0500 (Fri, 21 Nov 2025) EndedAt: 2025-11-21 02:52:54 -0500 (Fri, 21 Nov 2025) EllapsedTime: 151.2 seconds RetCode: 0 Status: OK CheckDir: clevRvis.Rcheck Warnings: 0