Package: cleaver Version: 1.47.1 Command: /home/biocbuild/R/R/bin/R CMD INSTALL cleaver StartedAt: 2025-10-16 21:37:30 -0000 (Thu, 16 Oct 2025) EndedAt: 2025-10-16 21:37:42 -0000 (Thu, 16 Oct 2025) EllapsedTime: 12.8 seconds RetCode: 0 Status: OK