Package: cleaver Version: 1.47.1 Command: /home/biocbuild/R/R/bin/R CMD build --keep-empty-dirs --no-resave-data cleaver StartedAt: 2025-10-17 00:02:21 -0000 (Fri, 17 Oct 2025) EndedAt: 2025-10-17 00:02:47 -0000 (Fri, 17 Oct 2025) EllapsedTime: 26.0 seconds RetCode: 0 Status: OK PackageFile: cleaver_1.47.1.tar.gz PackageFileSize: 389.3 KiB