Package: cleaver Version: 1.47.0 Command: rm -rf cleaver.buildbin-libdir && mkdir cleaver.buildbin-libdir && F:\biocbuild\bbs-3.22-bioc\R\bin\R.exe CMD INSTALL --build --library=cleaver.buildbin-libdir cleaver_1.47.0.tar.gz StartedAt: 2025-08-15 09:58:15 -0400 (Fri, 15 Aug 2025) EndedAt: 2025-08-15 09:58:31 -0400 (Fri, 15 Aug 2025) EllapsedTime: 15.4 seconds RetCode: 0 Status: OK PackageFile: cleaver_1.47.0.zip PackageFileSize: 361.6 KiB