Package: cleaver Version: 1.47.1 Command: /home/biocbuild/bbs-3.22-bioc/R/bin/R CMD INSTALL cleaver StartedAt: 2025-10-22 15:23:57 -0400 (Wed, 22 Oct 2025) EndedAt: 2025-10-22 15:24:06 -0400 (Wed, 22 Oct 2025) EllapsedTime: 8.7 seconds RetCode: 0 Status: OK