Package: cleaver Version: 1.47.1 Command: /home/biocbuild/bbs-3.22-bioc/R/bin/R CMD build --keep-empty-dirs --no-resave-data --md5 cleaver StartedAt: 2025-10-22 16:50:36 -0400 (Wed, 22 Oct 2025) EndedAt: 2025-10-22 16:50:54 -0400 (Wed, 22 Oct 2025) EllapsedTime: 18.0 seconds RetCode: 0 Status: OK PackageFile: cleaver_1.47.1.tar.gz PackageFileSize: 345.5 KiB