Package: cleaver Version: 1.47.1 Command: /Library/Frameworks/R.framework/Resources/bin/R CMD check --install=check:cleaver.install-out.txt --library=/Library/Frameworks/R.framework/Resources/library --no-vignettes --timings cleaver_1.47.1.tar.gz StartedAt: 2025-10-24 20:13:39 -0400 (Fri, 24 Oct 2025) EndedAt: 2025-10-24 20:15:03 -0400 (Fri, 24 Oct 2025) EllapsedTime: 84.7 seconds RetCode: 0 Status: OK CheckDir: cleaver.Rcheck Warnings: 0