Package: cleaver Version: 1.47.1 Command: rm -rf cleaver.buildbin-libdir && mkdir cleaver.buildbin-libdir && /Users/biocbuild/BBS/utils/build-universal.sh cleaver_1.47.1.tar.gz /Library/Frameworks/R.framework/Resources/bin/R cleaver.buildbin-libdir StartedAt: 2025-10-24 01:27:23 -0400 (Fri, 24 Oct 2025) EndedAt: 2025-10-24 01:27:38 -0400 (Fri, 24 Oct 2025) EllapsedTime: 15.1 seconds RetCode: 0 Status: OK PackageFile: cleaver_1.47.1.tgz PackageFileSize: 380.9 KiB