Package: cleaver Version: 1.47.1 Command: /Library/Frameworks/R.framework/Resources/bin/R CMD INSTALL cleaver StartedAt: 2025-10-19 15:08:42 -0400 (Sun, 19 Oct 2025) EndedAt: 2025-10-19 15:08:46 -0400 (Sun, 19 Oct 2025) EllapsedTime: 4.0 seconds RetCode: 0 Status: OK