Package: cleaver Version: 1.47.1 Command: /Library/Frameworks/R.framework/Resources/bin/R CMD build --keep-empty-dirs --no-resave-data cleaver StartedAt: 2025-10-19 15:56:16 -0400 (Sun, 19 Oct 2025) EndedAt: 2025-10-19 15:56:25 -0400 (Sun, 19 Oct 2025) EllapsedTime: 9.1 seconds RetCode: 0 Status: OK PackageFile: cleaver_1.47.1.tar.gz PackageFileSize: 344.7 KiB