Package: cleaver Version: 1.47.1 Command: rm -rf cleaver.buildbin-libdir && mkdir cleaver.buildbin-libdir && /Users/biocbuild/BBS/utils/build-universal.sh cleaver_1.47.1.tar.gz /Library/Frameworks/R.framework/Resources/bin/R cleaver.buildbin-libdir StartedAt: 2025-10-19 22:54:21 -0400 (Sun, 19 Oct 2025) EndedAt: 2025-10-19 22:54:26 -0400 (Sun, 19 Oct 2025) EllapsedTime: 5.1 seconds RetCode: 0 Status: OK PackageFile: cleaver_1.47.1.tgz PackageFileSize: 381.3 KiB