Package: cisPath Version: 1.49.1 Command: /home/biocbuild/R/R/bin/R CMD INSTALL cisPath StartedAt: 2025-10-23 20:17:00 -0000 (Thu, 23 Oct 2025) EndedAt: 2025-10-23 20:17:38 -0000 (Thu, 23 Oct 2025) EllapsedTime: 38.2 seconds RetCode: 1 Status: ERROR