Package: cisPath Version: 1.49.1 Command: /Library/Frameworks/R.framework/Resources/bin/R CMD INSTALL cisPath StartedAt: 2025-10-20 15:04:18 -0400 (Mon, 20 Oct 2025) EndedAt: 2025-10-20 15:04:42 -0400 (Mon, 20 Oct 2025) EllapsedTime: 23.8 seconds RetCode: 1 Status: ERROR