Package: cisPath Version: 1.49.1 Command: /Library/Frameworks/R.framework/Resources/bin/R CMD build --keep-empty-dirs --no-resave-data cisPath StartedAt: 2025-10-20 16:28:48 -0400 (Mon, 20 Oct 2025) EndedAt: 2025-10-20 16:29:00 -0400 (Mon, 20 Oct 2025) EllapsedTime: 12.6 seconds RetCode: 1 Status: ERROR PackageFile: None PackageFileSize: NA