Package: circRNAprofiler Version: 1.23.1 Command: rm -rf circRNAprofiler.buildbin-libdir && mkdir circRNAprofiler.buildbin-libdir && F:\biocbuild\bbs-3.22-bioc\R\bin\R.exe CMD INSTALL --build --library=circRNAprofiler.buildbin-libdir circRNAprofiler_1.23.1.tar.gz StartedAt: 2025-08-15 09:57:52 -0400 (Fri, 15 Aug 2025) EndedAt: 2025-08-15 10:00:33 -0400 (Fri, 15 Aug 2025) EllapsedTime: 160.1 seconds RetCode: 0 Status: OK PackageFile: circRNAprofiler_1.23.1.zip PackageFileSize: 3.349 MiB