Package: circRNAprofiler Version: 1.23.1 Command: /home/biocbuild/bbs-3.22-bioc/R/bin/R CMD INSTALL circRNAprofiler StartedAt: 2025-10-19 15:42:02 -0400 (Sun, 19 Oct 2025) EndedAt: 2025-10-19 15:42:54 -0400 (Sun, 19 Oct 2025) EllapsedTime: 51.9 seconds RetCode: 0 Status: OK