Package: circRNAprofiler Version: 1.23.1 Command: /Library/Frameworks/R.framework/Resources/bin/R CMD build --keep-empty-dirs --no-resave-data circRNAprofiler StartedAt: 2025-10-19 16:30:31 -0400 (Sun, 19 Oct 2025) EndedAt: 2025-10-19 16:32:20 -0400 (Sun, 19 Oct 2025) EllapsedTime: 109.7 seconds RetCode: 0 Status: OK PackageFile: circRNAprofiler_1.23.1.tar.gz PackageFileSize: 3.716 MiB