Package: cigarillo Version: 1.0.0 Command: /home/biocbuild/bbs-3.22-bioc/R/bin/R CMD INSTALL cigarillo StartedAt: 2025-11-17 17:16:54 -0500 (Mon, 17 Nov 2025) EndedAt: 2025-11-17 17:17:05 -0500 (Mon, 17 Nov 2025) EllapsedTime: 11.5 seconds RetCode: 0 Status: OK