Package: cigarillo Version: 1.0.0 Command: /home/biocbuild/bbs-3.22-bioc/R/bin/R CMD check --install=check:cigarillo.install-out.txt --library=/home/biocbuild/bbs-3.22-bioc/R/site-library --timings cigarillo_1.0.0.tar.gz StartedAt: 2025-11-18 01:52:55 -0500 (Tue, 18 Nov 2025) EndedAt: 2025-11-18 01:55:53 -0500 (Tue, 18 Nov 2025) EllapsedTime: 178.2 seconds RetCode: 0 Status: OK CheckDir: cigarillo.Rcheck Warnings: 0