Package: cigarillo Version: 1.0.0 Command: /Library/Frameworks/R.framework/Resources/bin/R CMD check --install=check:cigarillo.install-out.txt --library=/Library/Frameworks/R.framework/Resources/library --no-vignettes --timings cigarillo_1.0.0.tar.gz StartedAt: 2025-11-09 19:01:32 -0500 (Sun, 09 Nov 2025) EndedAt: 2025-11-09 19:02:16 -0500 (Sun, 09 Nov 2025) EllapsedTime: 43.6 seconds RetCode: 0 Status: OK CheckDir: cigarillo.Rcheck Warnings: 0