Package: cigarillo Version: 1.0.0 Command: rm -rf cigarillo.buildbin-libdir && mkdir cigarillo.buildbin-libdir && /Users/biocbuild/BBS/utils/build-universal.sh cigarillo_1.0.0.tar.gz /Library/Frameworks/R.framework/Resources/bin/R cigarillo.buildbin-libdir StartedAt: 2025-11-05 23:58:04 -0500 (Wed, 05 Nov 2025) EndedAt: 2025-11-05 23:58:09 -0500 (Wed, 05 Nov 2025) EllapsedTime: 5.1 seconds RetCode: 0 Status: OK PackageFile: cigarillo_1.0.0.tgz PackageFileSize: 354.2 KiB