Package: cicero Version: 1.27.0 Command: rm -rf cicero.buildbin-libdir && mkdir cicero.buildbin-libdir && F:\biocbuild\bbs-3.22-bioc\R\bin\R.exe CMD INSTALL --build --library=cicero.buildbin-libdir cicero_1.27.0.tar.gz StartedAt: 2025-08-15 09:57:36 -0400 (Fri, 15 Aug 2025) EndedAt: 2025-08-15 09:58:54 -0400 (Fri, 15 Aug 2025) EllapsedTime: 78.0 seconds RetCode: 0 Status: OK PackageFile: cicero_1.27.0.zip PackageFileSize: 1.171 MiB