Package: cicero Version: 1.28.0 Command: /Library/Frameworks/R.framework/Resources/bin/R CMD INSTALL cicero StartedAt: 2025-10-31 15:50:15 -0400 (Fri, 31 Oct 2025) EndedAt: 2025-10-31 15:51:34 -0400 (Fri, 31 Oct 2025) EllapsedTime: 78.9 seconds RetCode: 0 Status: OK