Package: cicero Version: 1.28.0 Command: /Library/Frameworks/R.framework/Resources/bin/R CMD build --keep-empty-dirs --no-resave-data cicero StartedAt: 2025-10-31 16:32:57 -0400 (Fri, 31 Oct 2025) EndedAt: 2025-10-31 16:35:09 -0400 (Fri, 31 Oct 2025) EllapsedTime: 132.3 seconds RetCode: 0 Status: OK PackageFile: cicero_1.28.0.tar.gz PackageFileSize: 1.193 MiB