Package: cicero Version: 1.27.0 Command: /Library/Frameworks/R.framework/Resources/bin/R CMD INSTALL cicero StartedAt: 2025-10-19 15:25:13 -0400 (Sun, 19 Oct 2025) EndedAt: 2025-10-19 15:25:36 -0400 (Sun, 19 Oct 2025) EllapsedTime: 23.9 seconds RetCode: 0 Status: OK