Package: cicero Version: 1.27.0 Command: /Library/Frameworks/R.framework/Resources/bin/R CMD build --keep-empty-dirs --no-resave-data cicero StartedAt: 2025-10-20 15:55:45 -0400 (Mon, 20 Oct 2025) EndedAt: 2025-10-20 15:56:29 -0400 (Mon, 20 Oct 2025) EllapsedTime: 43.5 seconds RetCode: 0 Status: OK PackageFile: cicero_1.27.0.tar.gz PackageFileSize: 1.193 MiB