Package: cicero Version: 1.27.0 Command: rm -rf cicero.buildbin-libdir && mkdir cicero.buildbin-libdir && /Users/biocbuild/BBS/utils/build-universal.sh cicero_1.27.0.tar.gz /Library/Frameworks/R.framework/Resources/bin/R cicero.buildbin-libdir StartedAt: 2025-10-19 22:54:15 -0400 (Sun, 19 Oct 2025) EndedAt: 2025-10-19 22:54:41 -0400 (Sun, 19 Oct 2025) EllapsedTime: 25.5 seconds RetCode: 0 Status: OK PackageFile: cicero_1.27.0.tgz PackageFileSize: 1.222 MiB