Package: chromVAR Version: 1.32.0 Command: /Library/Frameworks/R.framework/Resources/bin/R CMD build --keep-empty-dirs --no-resave-data chromVAR StartedAt: 2025-11-20 18:48:59 -0500 (Thu, 20 Nov 2025) EndedAt: 2025-11-20 18:54:03 -0500 (Thu, 20 Nov 2025) EllapsedTime: 304.5 seconds RetCode: 0 Status: OK PackageFile: chromVAR_1.32.0.tar.gz PackageFileSize: 505.6 KiB