Package: chromVAR Version: 1.32.0 Command: /Library/Frameworks/R.framework/Resources/bin/R CMD INSTALL chromVAR StartedAt: 2025-11-17 18:23:57 -0500 (Mon, 17 Nov 2025) EndedAt: 2025-11-17 18:24:20 -0500 (Mon, 17 Nov 2025) EllapsedTime: 23.6 seconds RetCode: 0 Status: OK