Package: chromPlot Version: 1.37.0 Command: /home/biocbuild/R/R/bin/R CMD build --keep-empty-dirs --no-resave-data chromPlot StartedAt: 2025-10-20 22:42:54 -0000 (Mon, 20 Oct 2025) EndedAt: 2025-10-20 22:43:52 -0000 (Mon, 20 Oct 2025) EllapsedTime: 58.0 seconds RetCode: 0 Status: OK PackageFile: chromPlot_1.37.0.tar.gz PackageFileSize: 1.515 MiB