Package: chromDraw Version: 2.39.0 Command: /home/biocbuild/R/R/bin/R CMD INSTALL chromDraw StartedAt: 2025-10-20 20:29:51 -0000 (Mon, 20 Oct 2025) EndedAt: 2025-10-20 20:30:53 -0000 (Mon, 20 Oct 2025) EllapsedTime: 62.2 seconds RetCode: 0 Status: OK