Package: chromDraw Version: 2.39.0 Command: /home/biocbuild/R/R/bin/R CMD check --install=check:chromDraw.install-out.txt --library=/home/biocbuild/R/R/site-library --no-vignettes --timings chromDraw_2.39.0.tar.gz StartedAt: 2025-10-21 06:29:33 -0000 (Tue, 21 Oct 2025) EndedAt: 2025-10-21 06:30:52 -0000 (Tue, 21 Oct 2025) EllapsedTime: 79.1 seconds RetCode: 0 Status: WARNINGS CheckDir: chromDraw.Rcheck Warnings: 3