Package: chromDraw Version: 2.39.0 Command: /home/biocbuild/bbs-3.22-bioc/R/bin/R CMD INSTALL chromDraw StartedAt: 2025-10-20 15:21:47 -0400 (Mon, 20 Oct 2025) EndedAt: 2025-10-20 15:22:29 -0400 (Mon, 20 Oct 2025) EllapsedTime: 42.1 seconds RetCode: 0 Status: OK