Package: chromDraw Version: 2.39.0 Command: /Library/Frameworks/R.framework/Resources/bin/R CMD INSTALL chromDraw StartedAt: 2025-10-20 15:18:11 -0400 (Mon, 20 Oct 2025) EndedAt: 2025-10-20 15:19:08 -0400 (Mon, 20 Oct 2025) EllapsedTime: 57.3 seconds RetCode: 0 Status: OK