Package: chromDraw Version: 2.39.0 Command: /Library/Frameworks/R.framework/Resources/bin/R CMD check --install=check:chromDraw.install-out.txt --library=/Library/Frameworks/R.framework/Resources/library --no-vignettes --timings chromDraw_2.39.0.tar.gz StartedAt: 2025-10-20 21:04:57 -0400 (Mon, 20 Oct 2025) EndedAt: 2025-10-20 21:06:23 -0400 (Mon, 20 Oct 2025) EllapsedTime: 86.3 seconds RetCode: 0 Status: WARNINGS CheckDir: chromDraw.Rcheck Warnings: 3