Package: chromDraw Version: 2.39.0 Command: /Library/Frameworks/R.framework/Resources/bin/R CMD build --keep-empty-dirs --no-resave-data chromDraw StartedAt: 2025-10-20 16:27:36 -0400 (Mon, 20 Oct 2025) EndedAt: 2025-10-20 16:29:03 -0400 (Mon, 20 Oct 2025) EllapsedTime: 86.9 seconds RetCode: 0 Status: OK PackageFile: chromDraw_2.39.0.tar.gz PackageFileSize: 2.227 MiB