Package: chromDraw Version: 2.39.0 Command: rm -rf chromDraw.buildbin-libdir && mkdir chromDraw.buildbin-libdir && /Users/biocbuild/BBS/utils/build-universal.sh chromDraw_2.39.0.tar.gz /Library/Frameworks/R.framework/Resources/bin/R chromDraw.buildbin-libdir StartedAt: 2025-10-21 03:04:03 -0400 (Tue, 21 Oct 2025) EndedAt: 2025-10-21 03:05:04 -0400 (Tue, 21 Oct 2025) EllapsedTime: 61.2 seconds RetCode: 0 Status: OK PackageFile: chromDraw_2.39.0.tgz PackageFileSize: 1.213 MiB