Package: chromDraw Version: 2.39.0 Command: /Library/Frameworks/R.framework/Resources/bin/R CMD build --keep-empty-dirs --no-resave-data chromDraw StartedAt: 2025-10-20 15:55:20 -0400 (Mon, 20 Oct 2025) EndedAt: 2025-10-20 15:55:45 -0400 (Mon, 20 Oct 2025) EllapsedTime: 25.3 seconds RetCode: 0 Status: OK PackageFile: chromDraw_2.39.0.tar.gz PackageFileSize: 2.228 MiB