Package: chipseq Version: 1.60.0 Command: /Library/Frameworks/R.framework/Resources/bin/R CMD check --install=check:chipseq.install-out.txt --library=/Library/Frameworks/R.framework/Resources/library --no-vignettes --timings chipseq_1.60.0.tar.gz StartedAt: 2025-11-03 20:09:40 -0500 (Mon, 03 Nov 2025) EndedAt: 2025-11-03 20:13:34 -0500 (Mon, 03 Nov 2025) EllapsedTime: 233.9 seconds RetCode: 0 Status: WARNINGS CheckDir: chipseq.Rcheck Warnings: 2