Package: chipenrich Version: 2.33.1 Command: /home/biocbuild/R/R/bin/R CMD check --install=check:chipenrich.install-out.txt --library=/home/biocbuild/R/R/site-library --no-vignettes --timings chipenrich_2.33.1.tar.gz StartedAt: 2025-10-17 07:13:49 -0000 (Fri, 17 Oct 2025) EndedAt: 2025-10-17 07:24:04 -0000 (Fri, 17 Oct 2025) EllapsedTime: 614.5 seconds RetCode: 0 Status: OK CheckDir: chipenrich.Rcheck Warnings: 0