Package: chipenrich Version: 2.33.1 Command: rm -rf chipenrich.buildbin-libdir && mkdir chipenrich.buildbin-libdir && F:\biocbuild\bbs-3.22-bioc\R\bin\R.exe CMD INSTALL --build --library=chipenrich.buildbin-libdir chipenrich_2.33.1.tar.gz StartedAt: 2025-08-15 09:56:50 -0400 (Fri, 15 Aug 2025) EndedAt: 2025-08-15 09:57:59 -0400 (Fri, 15 Aug 2025) EllapsedTime: 69.3 seconds RetCode: 0 Status: OK PackageFile: chipenrich_2.33.1.zip PackageFileSize: 674.4 KiB