Package: chipenrich Version: 2.34.0 Command: /Library/Frameworks/R.framework/Resources/bin/R CMD INSTALL chipenrich StartedAt: 2025-11-17 17:57:21 -0500 (Mon, 17 Nov 2025) EndedAt: 2025-11-17 17:58:54 -0500 (Mon, 17 Nov 2025) EllapsedTime: 93.6 seconds RetCode: 0 Status: OK