Package: chipenrich Version: 2.34.0 Command: /Library/Frameworks/R.framework/Resources/bin/R CMD check --install=check:chipenrich.install-out.txt --library=/Library/Frameworks/R.framework/Resources/library --no-vignettes --timings chipenrich_2.34.0.tar.gz StartedAt: 2025-11-18 05:09:13 -0500 (Tue, 18 Nov 2025) EndedAt: 2025-11-18 05:25:48 -0500 (Tue, 18 Nov 2025) EllapsedTime: 994.7 seconds RetCode: 0 Status: OK CheckDir: chipenrich.Rcheck Warnings: 0