Package: chipenrich Version: 2.34.0 Command: /Library/Frameworks/R.framework/Resources/bin/R CMD build --keep-empty-dirs --no-resave-data chipenrich StartedAt: 2025-11-17 21:08:45 -0500 (Mon, 17 Nov 2025) EndedAt: 2025-11-17 21:12:08 -0500 (Mon, 17 Nov 2025) EllapsedTime: 202.8 seconds RetCode: 0 Status: OK PackageFile: chipenrich_2.34.0.tar.gz PackageFileSize: 655.2 KiB