Package: chipenrich Version: 2.33.1 Command: rm -rf chipenrich.buildbin-libdir && mkdir chipenrich.buildbin-libdir && /Users/biocbuild/BBS/utils/build-universal.sh chipenrich_2.33.1.tar.gz /Library/Frameworks/R.framework/Resources/bin/R chipenrich.buildbin-libdir StartedAt: 2025-10-02 22:58:15 -0400 (Thu, 02 Oct 2025) EndedAt: 2025-10-02 22:58:35 -0400 (Thu, 02 Oct 2025) EllapsedTime: 19.3 seconds RetCode: 0 Status: OK PackageFile: chipenrich_2.33.1.tgz PackageFileSize: 889.1 KiB